BEGIN:VCALENDAR
VERSION:2.0
PRODID:-//https://ischiaeventi.it///NONSGML kigkonsult.se iCalcreator 2.10.15//
METHOD:PUBLISH
BEGIN:VEVENT
UID:20260420T170041UTC-3605FICaoG@https://ischiaeventi.it/
DTSTAMP:20260420T170041Z
DESCRIPTION:Una notte al museo https://ischiaeventi.it/en/events/cultura/co
 nferences/event/31701-una-notte-al-museo
DTSTART:20240806T183000Z
DTEND:20240806T213000Z
LOCATION:Villa Arbusto museum (Corso Angelo Rizzoli\, 194\, 80076 Lacco Ame
 no NA\, Italia)
SUMMARY:Una notte al museo
URL:https://ischiaeventi.it/en/events/cultura/conferences/event/31701-una-n
 otte-al-museo
END:VEVENT
END:VCALENDAR
