BEGIN:VCALENDAR
VERSION:2.0
PRODID:-//https://ischiaeventi.it///NONSGML kigkonsult.se iCalcreator 2.10.15//
METHOD:PUBLISH
BEGIN:VEVENT
UID:20260422T103528UTC-6105zGafJH@https://ischiaeventi.it/
DTSTAMP:20260422T103528Z
DESCRIPTION:18.30 SCARIUM spettacolo teatrale itinerantenel vicolo del Torr
 ione&nbsp\; https://ischiaeventi.it/en/events/cultura/conferences/event/34
 088-forio-merryland-scarium
DTSTART:20241213T173000Z
DTEND:20241213T190000Z
LOCATION:Comune di Forio (Piazza Municipio\, 1\, 80075 Forio NA\, Italia)
SUMMARY:Forio MerryLand: SCARIUM 
URL:https://ischiaeventi.it/en/events/cultura/conferences/event/34088-forio
 -merryland-scarium
END:VEVENT
END:VCALENDAR
