BEGIN:VCALENDAR
VERSION:2.0
PRODID:-//https://ischiaeventi.it///NONSGML kigkonsult.se iCalcreator 2.10.15//
METHOD:PUBLISH
BEGIN:VEVENT
UID:20260422T103510UTC-9484lZjdZu@https://ischiaeventi.it/
DTSTAMP:20260422T103510Z
DESCRIPTION:21.00 SAN VITO CHOIR coro di solisti e band musicale si esibisc
 e con i più grandi successi del Natale nella Chiesa di San Vito Martire in
  Forio https://ischiaeventi.it/en/events/cultura/conferences/event/34103-f
 orio-merryland-san-vito-choir
DTSTART:20241220T200000Z
DTEND:20241220T210000Z
LOCATION:Comune di Forio (Piazza Municipio\, 1\, 80075 Forio NA\, Italia)
SUMMARY:Forio MerryLand: SAN VITO CHOIR
URL:https://ischiaeventi.it/en/events/cultura/conferences/event/34103-forio
 -merryland-san-vito-choir
END:VEVENT
END:VCALENDAR
