BEGIN:VCALENDAR
VERSION:2.0
PRODID:-//https://ischiaeventi.it///NONSGML kigkonsult.se iCalcreator 2.10.15//
METHOD:PUBLISH
BEGIN:VEVENT
UID:20260422T090138UTC-7283uaOUBZ@https://ischiaeventi.it/
DTSTAMP:20260422T090138Z
DESCRIPTION:CANTINANDO A NATALE visite guidate nelle antiche cantine ischit
 ane con degustazioni di prodotti tipici della tradizione natalizia nel car
 atteristico borgo di Panza https://ischiaeventi.it/en/events/cultura/confe
 rences/event/34292-forio-merryland-cantinando-a-natale
DTSTART:20241231T110000Z
DTEND:20241231T130000Z
LOCATION:Comune di Forio (Piazza Municipio\, 1\, 80075 Forio NA\, Italia)
SUMMARY:Forio MerryLand: CANTINANDO A NATALE 
URL:https://ischiaeventi.it/en/events/cultura/conferences/event/34292-forio
 -merryland-cantinando-a-natale
END:VEVENT
END:VCALENDAR
