BEGIN:VCALENDAR
VERSION:2.0
PRODID:-//https://ischiaeventi.it///NONSGML kigkonsult.se iCalcreator 2.10.15//
METHOD:PUBLISH
BEGIN:VEVENT
UID:20260420T153051UTC-4374bDUt47@https://ischiaeventi.it/
DTSTAMP:20260420T153051Z
DESCRIPTION:Spettacolo del M° Peppe Barra ispirato alla celebre Cantata dei
  Pastori. Con Angela Luglio ‘ed Enrico Vicinanza https://ischiaeventi.it/e
 n/events/cultura/conferences/event/38244-lacco-ameno-in-canti-di-natale-in
 canto-di-natale-spettacolo-del-m-peppe-barra
DTSTART:20241223T180000Z
DTEND:20241223T200000Z
LOCATION:Basilica di Santa Restituta (Piazza San Restituta\, 1\, 80076 Lacc
 o Ameno NA\, Italia)
SUMMARY:Lacco Ameno In-canti di Natale: Incanto di Natale Spettacolo del  M
 ° Peppe Barra
URL:https://ischiaeventi.it/en/events/cultura/conferences/event/38244-lacco
 -ameno-in-canti-di-natale-incanto-di-natale-spettacolo-del-m-peppe-barra
END:VEVENT
END:VCALENDAR
