BEGIN:VCALENDAR
VERSION:2.0
PRODID:-//https://ischiaeventi.it///NONSGML kigkonsult.se iCalcreator 2.10.15//
METHOD:PUBLISH
BEGIN:VEVENT
UID:20260420T134747UTC-2240RmXomP@https://ischiaeventi.it/
DTSTAMP:20260420T134747Z
DESCRIPTION:BRUNCH DI FINE ANNO con piatti tipici natalizi\, live music ed 
 animazione per bambini Piazza Marina e corso Luigi Manzi dalle 11.00 https
 ://ischiaeventi.it/en/events/cultura/conferences/event/38451-natale-a-casa
 micciola-brunch-di-fine-anno
DTSTART:20241231T100000Z
DTEND:20241231T120000Z
LOCATION:Piazza Marina Casamicciola Terme (Corso Luigi Manzi\, 1\, 80074 Ca
 samicciola Terme NA\, Italy)
SUMMARY:Natale a Casamicciola: BRUNCH DI FINE ANNO 
URL:https://ischiaeventi.it/en/events/cultura/conferences/event/38451-natal
 e-a-casamicciola-brunch-di-fine-anno
END:VEVENT
END:VCALENDAR
