BEGIN:VCALENDAR
VERSION:2.0
PRODID:-//https://ischiaeventi.it///NONSGML kigkonsult.se iCalcreator 2.10.15//
METHOD:PUBLISH
BEGIN:VEVENT
UID:20260422T103310UTC-8845Ch94VM@https://ischiaeventi.it/
DTSTAMP:20260422T103310Z
DESCRIPTION:Commedia in 3 atti di Eduardo De Filippo https://ischiaeventi.i
 t/en/events/cultura/conferences/event/40945-uomo-e-galantuomo
DTSTART:20250209T180000Z
DTEND:20250209T200000Z
LOCATION:Cinema Excelsior (Via Francesco Sogliuzzo\, 18\, 80077 Ischia NA\,
  Italia)
SUMMARY:Uomo e galantuomo
URL:https://ischiaeventi.it/en/events/cultura/conferences/event/40945-uomo-
 e-galantuomo
END:VEVENT
END:VCALENDAR
