BEGIN:VCALENDAR
VERSION:2.0
PRODID:-//https://ischiaeventi.it///NONSGML kigkonsult.se iCalcreator 2.10.15//
METHOD:PUBLISH
BEGIN:VEVENT
UID:20260420T133837UTC-3609P54vtj@https://ischiaeventi.it/
DTSTAMP:20260420T133837Z
DESCRIPTION:Martedì prossimo porta i tuoi bimbi a festeggiare il Carnevale 
 insieme a noi: a piazzetta Perrone\, dalle 15.30\, un party fantasmagorico
  con giochi\, baby dance\, il TruccaBimbo\, le mascotte\, i palloncini e l
 a macchina spara bolle! https://ischiaeventi.it/en/events/cultura/conferen
 ces/event/44462-carnival-baby-party
DTSTART:20250304T143000Z
DTEND:20250304T170000Z
LOCATION:Perrone (Via Cumana\, 80074 Casamicciola Terme NA\, Italia)
SUMMARY:Carnival baby party
URL:https://ischiaeventi.it/en/events/cultura/conferences/event/44462-carni
 val-baby-party
END:VEVENT
END:VCALENDAR
