BEGIN:VCALENDAR
VERSION:2.0
PRODID:-//https://ischiaeventi.it///NONSGML kigkonsult.se iCalcreator 2.10.15//
METHOD:PUBLISH
BEGIN:VEVENT
UID:20260420T170023UTC-47833fctsG@https://ischiaeventi.it/
DTSTAMP:20260420T170023Z
DESCRIPTION:Mostra Veranica Acunto\nIngresso Libero\n&nbsp\; https://ischia
 eventi.it/en/events/cultura/conferences/event/68466-mostra-veronica-acunto
DTSTART:20250426T173000Z
DTEND:20250426T190000Z
LOCATION:Villa Arbusto museum (Corso Angelo Rizzoli\, 194\, 80076 Lacco Ame
 no NA\, Italia)
SUMMARY:Mostra Veronica Acunto
URL:https://ischiaeventi.it/en/events/cultura/conferences/event/68466-mostr
 a-veronica-acunto
END:VEVENT
END:VCALENDAR
