BEGIN:VCALENDAR
VERSION:2.0
PRODID:-//https://ischiaeventi.it///NONSGML kigkonsult.se iCalcreator 2.10.15//
METHOD:PUBLISH
BEGIN:VEVENT
UID:20260422T124156UTC-4506NbZL9u@https://ischiaeventi.it/
DTSTAMP:20260422T124156Z
DESCRIPTION:Manifestazione Ischia per Palestina Libera https://ischiaeventi
 .it/en/events/cultura/conferences/event/77195-manifestazione-ischia-per-pa
 lestina-libera
DTSTART:20250525T080000Z
DTEND:20250525T110000Z
LOCATION:Piazza Marina Casamicciola Terme (Corso Luigi Manzi\, 1\, 80074 Ca
 samicciola Terme NA\, Italy)
SUMMARY:Manifestazione Ischia per Palestina Libera
URL:https://ischiaeventi.it/en/events/cultura/conferences/event/77195-manif
 estazione-ischia-per-palestina-libera
END:VEVENT
END:VCALENDAR
