BEGIN:VCALENDAR
VERSION:2.0
PRODID:-//https://ischiaeventi.it///NONSGML kigkonsult.se iCalcreator 2.10.15//
METHOD:PUBLISH
BEGIN:VEVENT
UID:20260420T121623UTC-30434vVPdi@https://ischiaeventi.it/
DTSTAMP:20260420T121623Z
DESCRIPTION:LA DOLCE NOTTE DI FORIO - MUSIC ITALIAN STYLE https://ischiaeve
 nti.it/en/events/cultura/debates-and-cultural-meetings/event/103200-estate
 -forio-2025-la-dolce-notte-di-forio
DTSTART:20250717T190000Z
DTEND:20250717T215900Z
LOCATION:Chiostro S. Francesco (Rione Pescatori\, 2\, 80075 Forio NA\, Ital
 ia)
SUMMARY:ESTATE FORIO 2025: LA DOLCE NOTTE DI FORIO
URL:https://ischiaeventi.it/en/events/cultura/debates-and-cultural-meetings
 /event/103200-estate-forio-2025-la-dolce-notte-di-forio
END:VEVENT
END:VCALENDAR
