BEGIN:VCALENDAR
VERSION:2.0
PRODID:-//https://ischiaeventi.it///NONSGML kigkonsult.se iCalcreator 2.10.15//
METHOD:PUBLISH
BEGIN:VEVENT
UID:20260420T104645UTC-7845lt0IHp@https://ischiaeventi.it/
DTSTAMP:20260420T104645Z
DESCRIPTION:MARTEDI 29 || ORE 21:00 - VILLA COLOMBAIAL'antico amore: spetta
 colo musicale con Maurizio De Giovanni e Marco Zurzolo https://ischiaevent
 i.it/en/events/cultura/debates-and-cultural-meetings/event/103206-estate-f
 orio-2025-lantico-amore-spettacolo-musicale-con-maurizio-de-giovanni-e-mar
 co-zurzolo
DTSTART:20250729T190000Z
DTEND:20250729T215900Z
LOCATION:La Colombaia (Via Francesco Calise\, 130\, 80075 Forio NA\, Italia
 )
SUMMARY:Estate Forio 2025: l'antico amore: spettacolo musicale con Maurizio
  De Giovanni e Marco Zurzolo
URL:https://ischiaeventi.it/en/events/cultura/debates-and-cultural-meetings
 /event/103206-estate-forio-2025-lantico-amore-spettacolo-musicale-con-maur
 izio-de-giovanni-e-marco-zurzolo
END:VEVENT
END:VCALENDAR
