BEGIN:VCALENDAR
VERSION:2.0
PRODID:-//https://ischiaeventi.it///NONSGML kigkonsult.se iCalcreator 2.10.15//
METHOD:PUBLISH
BEGIN:VEVENT
UID:20260420T122055UTC-5638vU7013@https://ischiaeventi.it/
DTSTAMP:20260420T122055Z
DESCRIPTION:FESTA DELLA BIRRA https://ischiaeventi.it/en/events/cultura/deb
 ates-and-cultural-meetings/event/124236-estate-forio-2025-festa-della-birr
 a
DTSTART:20250809T183000Z
DTEND:20250809T215900Z
LOCATION:Panza (Piazza San Leonardo - 80075 Panza Forio)
SUMMARY:Estate Forio 2025: FESTA DELLA BIRRA
URL:https://ischiaeventi.it/en/events/cultura/debates-and-cultural-meetings
 /event/124236-estate-forio-2025-festa-della-birra
END:VEVENT
END:VCALENDAR
