BEGIN:VCALENDAR
VERSION:2.0
PRODID:-//https://ischiaeventi.it///NONSGML kigkonsult.se iCalcreator 2.10.15//
METHOD:PUBLISH
BEGIN:VEVENT
UID:20260420T104637UTC-6160ufvcg6@https://ischiaeventi.it/
DTSTAMP:20260420T104637Z
DESCRIPTION:DAL 20 AL 27 AGOSTO - CHIOSTRO DI SAN FRANCESCO\, PIAZZA MUNICI
 PIO MOSTRA D'ARTE COLLETTIVA DI GIOVANI STUDENTI UCRAINI https://ischiaeve
 nti.it/en/events/cultura/debates-and-cultural-meetings/event/124241-estate
 -forio-2025-mostra-darte-collettiva-di-giovani-studenti-ucraini
DTSTART:20250820T183000Z
DTEND:20250820T215900Z
LOCATION:Chiostro S. Francesco (Rione Pescatori\, 2\, 80075 Forio NA\, Ital
 ia)
SUMMARY:Estate Forio 2025: MOSTRA D'ARTE COLLETTIVA DI GIOVANI STUDENTI UCR
 AINI
URL:https://ischiaeventi.it/en/events/cultura/debates-and-cultural-meetings
 /event/124241-estate-forio-2025-mostra-darte-collettiva-di-giovani-student
 i-ucraini
END:VEVENT
END:VCALENDAR
