BEGIN:VCALENDAR
VERSION:2.0
PRODID:-//https://ischiaeventi.it///NONSGML kigkonsult.se iCalcreator 2.10.15//
METHOD:PUBLISH
BEGIN:VEVENT
UID:20260420T104646UTC-2504rSgHsr@https://ischiaeventi.it/
DTSTAMP:20260420T104646Z
DESCRIPTION:CONCERTO IN MEMORIA DEL MAESTRO IMPAGLIAZZO https://ischiaevent
 i.it/en/events/cultura/debates-and-cultural-meetings/event/124249-estate-f
 orio-2025-concerto-in-memoria-del-maestro-impagliazzo
DTSTART:20250821T183000Z
DTEND:20250821T215900Z
LOCATION:Panza (Piazza San Leonardo - 80075 Panza Forio)
SUMMARY:Estate Forio 2025: CONCERTO IN MEMORIA DEL MAESTRO IMPAGLIAZZO
URL:https://ischiaeventi.it/en/events/cultura/debates-and-cultural-meetings
 /event/124249-estate-forio-2025-concerto-in-memoria-del-maestro-impagliazz
 o
END:VEVENT
END:VCALENDAR
