BEGIN:VCALENDAR
VERSION:2.0
PRODID:-//https://ischiaeventi.it///NONSGML kigkonsult.se iCalcreator 2.10.15//
METHOD:PUBLISH
BEGIN:VEVENT
UID:20260420T122048UTC-5198bXmuUh@https://ischiaeventi.it/
DTSTAMP:20260420T122048Z
DESCRIPTION:\n\nSABATO 30 ORE 20.30 - PANZASAGRA DELLA PARMIGIANA\n&nbsp\;
 \n\n\n https://ischiaeventi.it/en/events/cultura/debates-and-cultural-meet
 ings/event/124252-estate-forio-2025-sagra-della-parmigiana
DTSTART:20250830T183000Z
DTEND:20250830T215900Z
LOCATION:Panza (Piazza San Leonardo - 80075 Panza Forio)
SUMMARY:Estate Forio 2025: SAGRA DELLA PARMIGIANA
URL:https://ischiaeventi.it/en/events/cultura/debates-and-cultural-meetings
 /event/124252-estate-forio-2025-sagra-della-parmigiana
END:VEVENT
END:VCALENDAR
