BEGIN:VCALENDAR
VERSION:2.0
PRODID:-//https://ischiaeventi.it///NONSGML kigkonsult.se iCalcreator 2.10.15//
METHOD:PUBLISH
BEGIN:VEVENT
UID:20260420T122338UTC-71273HpxbS@https://ischiaeventi.it/
DTSTAMP:20260420T122338Z
DESCRIPTION:6:00 PM – With Stefano in Our Hearts: a Goal for Life! An event
  in memory of Stefano Cavallo\, celebrating his passions for football and 
 food\, held at the “S. Calise” stadium. https://ischiaeventi.it/en/events/
 cultura/debates-and-cultural-meetings/event/249084-christmas-in-forio-2025
 -with-stefano-in-our-hearts-a-goal-for-life
DTSTART:20251209T170000Z
DTEND:20251209T195900Z
LOCATION:Comune di Forio (Piazza Municipio\, 1\, 80075 Forio NA\, Italia)
SUMMARY:Christmas in Forio 2025: With Stefano in Our Hearts: a Goal for Lif
 e! 
URL:https://ischiaeventi.it/en/events/cultura/debates-and-cultural-meetings
 /event/249084-christmas-in-forio-2025-with-stefano-in-our-hearts-a-goal-fo
 r-life
END:VEVENT
END:VCALENDAR
