BEGIN:VCALENDAR
VERSION:2.0
PRODID:-//https://ischiaeventi.it///NONSGML kigkonsult.se iCalcreator 2.10.15//
METHOD:PUBLISH
BEGIN:VEVENT
UID:20260420T103912UTC-87291Knh3j@https://ischiaeventi.it/
DTSTAMP:20260420T103912Z
DESCRIPTION:wedding cafè in Forio https://ischiaeventi.it/en/events/cultura
 /debates-and-cultural-meetings/event/249370-christmas-in-forio-2025-weddin
 g-cafe
DTSTART:20251222T183000Z
DTEND:20251222T210000Z
LOCATION:Piazza Medaglia d'oro (San Gaetano) (Piazza Luca Balsofiore\, 8\, 
 80075 Forio NA\, Italy)
SUMMARY:Christmas in Forio 2025: wedding cafè
URL:https://ischiaeventi.it/en/events/cultura/debates-and-cultural-meetings
 /event/249370-christmas-in-forio-2025-wedding-cafe
END:VEVENT
END:VCALENDAR
