BEGIN:VCALENDAR
VERSION:2.0
PRODID:-//https://ischiaeventi.it///NONSGML kigkonsult.se iCalcreator 2.10.15//
METHOD:PUBLISH
BEGIN:VEVENT
UID:20260420T103842UTC-0907vZmSrN@https://ischiaeventi.it/
DTSTAMP:20260420T103842Z
DESCRIPTION:Sports event: Real Forio vs Real Grazzanisefree entrance https:
 //ischiaeventi.it/en/events/cultura/debates-and-cultural-meetings/event/24
 9400-sports-event-real-forio-vs-real-grazzanise
DTSTART:20260111T133000Z
DTEND:20260111T160000Z
LOCATION:Stadio - Salvatore Calise (Via Cava di Spinavola 17\, 80075\, Fori
 o\, Napoli)
SUMMARY:Sports event: Real Forio vs Real Grazzanise
URL:https://ischiaeventi.it/en/events/cultura/debates-and-cultural-meetings
 /event/249400-sports-event-real-forio-vs-real-grazzanise
END:VEVENT
END:VCALENDAR
