BEGIN:VCALENDAR
VERSION:2.0
PRODID:-//https://ischiaeventi.it///NONSGML kigkonsult.se iCalcreator 2.10.15//
METHOD:PUBLISH
BEGIN:VEVENT
UID:20260420T102412UTC-3220hUgJF3@https://ischiaeventi.it/
DTSTAMP:20260420T102412Z
DESCRIPTION:Sunday\, January 11We bring joy and sweets to the children!\nRi
 de Schedule:10:00 – Departure to Ischia10:15 – 10:45 – Stop at Piazza degl
 i Eroi11:00 – 11:45 – Stop in Casamicciola at Piazzale dell’Ancora12:00 – 
 12:30 – Stop in Lacco at Piazza Santa Restituta12:40 – 13:15 – Stop in For
 io at Piazzale Mariani13:45 – 14:15 – Stop in Buonopane at the main square
 \nWe look forward to seeing you along the route! https://ischiaeventi.it/e
 n/events/cultura/debates-and-cultural-meetings/event/249402-befana-on-moto
 rbikes
DTSTART:20260111T090000Z
DTEND:20260111T140000Z
LOCATION:Isola d'Ischia (Isola d'Ischia\, Napoli\, Italia)
SUMMARY:Befana on Motorbikes
URL:https://ischiaeventi.it/en/events/cultura/debates-and-cultural-meetings
 /event/249402-befana-on-motorbikes
END:VEVENT
END:VCALENDAR
