BEGIN:VCALENDAR
VERSION:2.0
PRODID:-//https://ischiaeventi.it///NONSGML kigkonsult.se iCalcreator 2.10.15//
METHOD:PUBLISH
BEGIN:VEVENT
UID:20260421T181337UTC-8396R4RvVw@https://ischiaeventi.it/
DTSTAMP:20260421T181337Z
DESCRIPTION:A day of reflection dedicated to parents and educators who want
  to better understand the role of technology in children’s development. Th
 e meeting addresses the changes introduced by digital media\, offering too
 ls and guidance to help young ones use technology in a balanced and consci
 ous way.\nSPEAKERS:Dr. Nicola Impagliazzo – PediatricianDr. Antonella Gran
 dinetti – Psychologist and Director\, Department of Addictions\, ASL SADr.
  Fernanda Maio – Digital Wellbeing Specialist\n\nDiscussion with the audie
 nce.\nLOCATION: Museo Diocesano\, Via Seminario 20\, IschiaDATE: January 2
 4\, 2026TIME: 9:00 AM – 12:30 PM https://ischiaeventi.it/en/events/cultura
 /debates-and-cultural-meetings/event/249446-conference-children-and-digita
 l-technology
DTSTART:20260124T080000Z
DTEND:20260124T113000Z
LOCATION:Museo Diocesano di Ischia (Via Seminario\, 20\, 80077 Ischia NA\, 
 Italia)
SUMMARY:Conference: Children and Digital Technology
URL:https://ischiaeventi.it/en/events/cultura/debates-and-cultural-meetings
 /event/249446-conference-children-and-digital-technology
END:VEVENT
END:VCALENDAR
