BEGIN:VCALENDAR
VERSION:2.0
PRODID:-//https://ischiaeventi.it///NONSGML kigkonsult.se iCalcreator 2.10.15//
METHOD:PUBLISH
BEGIN:VEVENT
UID:20260420T104418UTC-5130VV04w7@https://ischiaeventi.it/
DTSTAMP:20260420T104418Z
DESCRIPTION:Piazza San Gaetano\, Corso Francesco Regine\, and Vico Torrione
  come alive with emotions through live music\, soft lighting\, love dedica
 tions\, the magic of Candlelight\, and moments to share together. A specia
 l afternoon to celebrate love in all its forms\, with glances\, promises\,
  and memories to take with you.\nAn event organized by Associazione Chiaia
  e Dintorni 2.0 and FlavioConte Events. https://ischiaeventi.it/en/events/
 cultura/debates-and-cultural-meetings/event/249483-forio-in-love-love-is-i
 n-the-air
DTSTART:20260214T143000Z
DTEND:20260214T180000Z
LOCATION:Piazza Medaglia d'oro (San Gaetano) (Piazza Luca Balsofiore\, 8\, 
 80075 Forio NA\, Italy)
SUMMARY:FORIO IN LOVE Love is in the air
URL:https://ischiaeventi.it/en/events/cultura/debates-and-cultural-meetings
 /event/249483-forio-in-love-love-is-in-the-air
END:VEVENT
END:VCALENDAR
