BEGIN:VCALENDAR
VERSION:2.0
PRODID:-//https://ischiaeventi.it///NONSGML kigkonsult.se iCalcreator 2.10.15//
METHOD:PUBLISH
BEGIN:VEVENT
UID:20260420T103912UTC-9685vbse6v@https://ischiaeventi.it/
DTSTAMP:20260420T103912Z
DESCRIPTION:Women’s UniverseCollective Art ExhibitionFrom March 7 to March 
 13\, 2026Monday to Friday: 3:00 PM – 7:30 PM\nOpening (Vernissage): March 
 7\, 2026 at 5:30 PM\nWith the participation of:\n\n\nNello Di Micco – Psyc
 hotherapist\n\n\nSalvatore Di Costanzo – Writer\n\n\nClementina Petroni – 
 Painter and Poet\n\n https://ischiaeventi.it/en/events/cultura/debates-and
 -cultural-meetings/event/249639-womens-universe---collective-art-exhibitio
 n
DTSTART:20260307T163000Z
DTEND:20260307T180000Z
LOCATION:Vico Sant'Antonio Abate (Via Sant'Antonio Abate\, 80075\, Forio\, 
 Napoli)
SUMMARY:Women’s Universe – Collective Art Exhibition
URL:https://ischiaeventi.it/en/events/cultura/debates-and-cultural-meetings
 /event/249639-womens-universe---collective-art-exhibition
END:VEVENT
END:VCALENDAR
