BEGIN:VCALENDAR
VERSION:2.0
PRODID:-//https://ischiaeventi.it///NONSGML kigkonsult.se iCalcreator 2.10.15//
METHOD:PUBLISH
BEGIN:VEVENT
UID:20260423T090727UTC-0380hJ8v3m@https://ischiaeventi.it/
DTSTAMP:20260423T090727Z
DESCRIPTION:9:30 a.m. – Blessing of the Palms and Holy Mass at San Antuono.
  11:30 a.m. – Blessing of the Palms at the San Domenico square and Holy Ma
 ss. https://ischiaeventi.it/en/events/cultura/debates-and-cultural-meeting
 s/event/249787-easter-in-ischia-blessing-of-the-palms
DTSTART:20260329T073000Z
DTEND:20260329T113000Z
LOCATION:Parrocchia di Sant'Antonio Abate (Via Acquedotto\, 63\, 80077 Isch
 ia NA\, Italia)
SUMMARY:Easter in Ischia: Blessing of the Palms
URL:https://ischiaeventi.it/en/events/cultura/debates-and-cultural-meetings
 /event/249787-easter-in-ischia-blessing-of-the-palms
END:VEVENT
END:VCALENDAR
