BEGIN:VCALENDAR
VERSION:2.0
PRODID:-//https://ischiaeventi.it///NONSGML kigkonsult.se iCalcreator 2.10.15//
METHOD:PUBLISH
BEGIN:VEVENT
UID:20260420T170512UTC-3024fnuJWK@https://ischiaeventi.it/
DTSTAMP:20260420T170512Z
DESCRIPTION:Forio omaggia Vito Mattera in occasione dell'anniversario della
  sua nascita. https://ischiaeventi.it/en/events/cultura/debates-and-cultur
 al-meetings/event/28748-vito-per-sempre
DTSTART:20240327T163000Z
DTEND:20240327T190000Z
LOCATION:Caffe Internazionale Bar Maria (Corso Francesco Regine\, 41\, 8007
 5 Forio NA\, Italia)
SUMMARY:Vito per sempre
URL:https://ischiaeventi.it/en/events/cultura/debates-and-cultural-meetings
 /event/28748-vito-per-sempre
END:VEVENT
END:VCALENDAR
