BEGIN:VCALENDAR
VERSION:2.0
PRODID:-//https://ischiaeventi.it///NONSGML kigkonsult.se iCalcreator 2.10.15//
METHOD:PUBLISH
BEGIN:VEVENT
UID:20260420T153407UTC-5182u6eoNn@https://ischiaeventi.it/
DTSTAMP:20260420T153407Z
DESCRIPTION:Enzo Fischetti e Cafè napoletano duo https://ischiaeventi.it/en
 /events/cultura/debates-and-cultural-meetings/event/30267-enzo-fischetti-e
 -cafe-napoletano-duo
DTSTART:20240612T193000Z
DTEND:20240612T213000Z
LOCATION: Piazzetta Sant'Antonio  (Via Cumana\, 68\, 80074 Casamicciola Ter
 me NA\, Italia)
SUMMARY:Enzo Fischetti e Cafè napoletano duo
URL:https://ischiaeventi.it/en/events/cultura/debates-and-cultural-meetings
 /event/30267-enzo-fischetti-e-cafe-napoletano-duo
END:VEVENT
END:VCALENDAR
