BEGIN:VCALENDAR
VERSION:2.0
PRODID:-//https://ischiaeventi.it///NONSGML kigkonsult.se iCalcreator 2.10.15//
METHOD:PUBLISH
BEGIN:VEVENT
UID:20260420T104642UTC-05055S7Wbp@https://ischiaeventi.it/
DTSTAMP:20260420T104642Z
DESCRIPTION:JAZZ SWING &amp\; NAPOLETAN SWING https://ischiaeventi.it/en/ev
 ents/cultura/debates-and-cultural-meetings/event/30755-calici-di-cultura-n
 ientedimeno-band
DTSTART:20240613T200000Z
DTEND:20240613T215900Z
LOCATION:Piazzale Cristoforo Colombo (Via Cristoforo Colombo\, 80075 Forio 
 NA\, Italia)
SUMMARY:Calici di cultura: Nientedimeno Band
URL:https://ischiaeventi.it/en/events/cultura/debates-and-cultural-meetings
 /event/30755-calici-di-cultura-nientedimeno-band
END:VEVENT
END:VCALENDAR
