BEGIN:VCALENDAR
VERSION:2.0
PRODID:-//https://ischiaeventi.it///NONSGML kigkonsult.se iCalcreator 2.10.15//
METHOD:PUBLISH
BEGIN:VEVENT
UID:20260420T153943UTC-6848UBGe2V@https://ischiaeventi.it/
DTSTAMP:20260420T153943Z
DESCRIPTION:di Mery Sportiello\nDanza classica\nmodem jazz\nStreetJazz\ndan
 ze caraibiche\nmusical\nacrobatica\ncanto https://ischiaeventi.it/en/event
 s/cultura/debates-and-cultural-meetings/event/30757-calici-di-cultura-la-m
 agia-della-danza
DTSTART:20240614T160000Z
DTEND:20240614T200000Z
LOCATION:Piazzale Cristoforo Colombo (Via Cristoforo Colombo\, 80075 Forio 
 NA\, Italia)
SUMMARY:Calici di cultura: LA MAGIA DELLA DANZA
URL:https://ischiaeventi.it/en/events/cultura/debates-and-cultural-meetings
 /event/30757-calici-di-cultura-la-magia-della-danza
END:VEVENT
END:VCALENDAR
