BEGIN:VCALENDAR
VERSION:2.0
PRODID:-//https://ischiaeventi.it///NONSGML kigkonsult.se iCalcreator 2.10.15//
METHOD:PUBLISH
BEGIN:VEVENT
UID:20260420T104708UTC-36251VjEPf@https://ischiaeventi.it/
DTSTAMP:20260420T104708Z
DESCRIPTION:MUSIC LIVE SHOWitinerante\nalle ore 21:00PIAZZA C. COLOMBOaspet
 tando “i fuochi” https://ischiaeventi.it/en/events/cultura/debates-and-cul
 tural-meetings/event/30760-calici-di-cultura-music-live-show-aspettando-i-
 fuochi-di-artificio
DTSTART:20240616T170000Z
DTEND:20240616T190000Z
LOCATION:Piazzale Cristoforo Colombo (Via Cristoforo Colombo\, 80075 Forio 
 NA\, Italia)
SUMMARY:Calici di cultura: music live show -  aspettando i fuochi di artifi
 cio
URL:https://ischiaeventi.it/en/events/cultura/debates-and-cultural-meetings
 /event/30760-calici-di-cultura-music-live-show-aspettando-i-fuochi-di-arti
 ficio
END:VEVENT
END:VCALENDAR
