BEGIN:VCALENDAR
VERSION:2.0
PRODID:-//https://ischiaeventi.it///NONSGML kigkonsult.se iCalcreator 2.10.15//
METHOD:PUBLISH
BEGIN:VEVENT
UID:20260422T090511UTC-4780RXBgL6@https://ischiaeventi.it/
DTSTAMP:20260422T090511Z
DESCRIPTION:Raf in concerto https://ischiaeventi.it/en/events/cultura/debat
 es-and-cultural-meetings/event/31006-raf-in-concerto
DTSTART:20240722T193000Z
DTEND:20240722T215900Z
LOCATION:Piazzale Anna De Felice  (80074 Casamicciola Terme NA\, Italia)
SUMMARY:Raf in concerto
URL:https://ischiaeventi.it/en/events/cultura/debates-and-cultural-meetings
 /event/31006-raf-in-concerto
END:VEVENT
END:VCALENDAR
