BEGIN:VCALENDAR
VERSION:2.0
PRODID:-//https://ischiaeventi.it///NONSGML kigkonsult.se iCalcreator 2.10.15//
METHOD:PUBLISH
BEGIN:VEVENT
UID:20260422T090658UTC-0362Vlw8gv@https://ischiaeventi.it/
DTSTAMP:20260422T090658Z
DESCRIPTION:Amare. White Party https://ischiaeventi.it/en/events/cultura/de
 bates-and-cultural-meetings/event/31020-amare-white-party
DTSTART:20240706T190000Z
DTEND:20240706T215900Z
LOCATION:Frontemare beach mare (Parcheggio ANAS\, 80074 Casamicciola Terme 
 NA\, Italia)
SUMMARY:Amare. White Party
URL:https://ischiaeventi.it/en/events/cultura/debates-and-cultural-meetings
 /event/31020-amare-white-party
END:VEVENT
END:VCALENDAR
