BEGIN:VCALENDAR
VERSION:2.0
PRODID:-//https://ischiaeventi.it///NONSGML kigkonsult.se iCalcreator 2.10.15//
METHOD:PUBLISH
BEGIN:VEVENT
UID:20260420T103549UTC-8121T3VlbE@https://ischiaeventi.it/
DTSTAMP:20260420T103549Z
DESCRIPTION:Rosario Miraggio al Negombo https://ischiaeventi.it/en/events/c
 ultura/debates-and-cultural-meetings/event/31601-rosario-miraggio-al-negom
 bo
DTSTART:20240817T193000Z
DTEND:20240817T210000Z
LOCATION:Parco Termale Negombo (Baia di S. Montano\, - 80076 Lacco Ameno NA
 \, Italia)
SUMMARY:Rosario Miraggio al Negombo
URL:https://ischiaeventi.it/en/events/cultura/debates-and-cultural-meetings
 /event/31601-rosario-miraggio-al-negombo
END:VEVENT
END:VCALENDAR
