BEGIN:VCALENDAR
VERSION:2.0
PRODID:-//https://ischiaeventi.it///NONSGML kigkonsult.se iCalcreator 2.10.15//
METHOD:PUBLISH
BEGIN:VEVENT
UID:20260420T120855UTC-80005BgKvi@https://ischiaeventi.it/
DTSTAMP:20260420T120855Z
DESCRIPTION:GIOCHI ANTICHI ritorno al puro divertimento di una volta con gl
 i storici giochi per entusiasmare ed intrattenere adulti e bambini in Mont
 erone Forio https://ischiaeventi.it/en/events/cultura/debates-and-cultural
 -meetings/event/34087-forio-merryland-giochi-antichi
DTSTART:20241213T143000Z
DTEND:20241213T170000Z
LOCATION:Comune di Forio (Piazza Municipio\, 1\, 80075 Forio NA\, Italia)
SUMMARY:Forio MerryLand: GIOCHI ANTICHI
URL:https://ischiaeventi.it/en/events/cultura/debates-and-cultural-meetings
 /event/34087-forio-merryland-giochi-antichi
END:VEVENT
END:VCALENDAR
