BEGIN:VCALENDAR
VERSION:2.0
PRODID:-//https://ischiaeventi.it///NONSGML kigkonsult.se iCalcreator 2.10.15//
METHOD:PUBLISH
BEGIN:VEVENT
UID:20260420T122048UTC-1183NoGSu2@https://ischiaeventi.it/
DTSTAMP:20260420T122048Z
DESCRIPTION:11:30 LA TRADIZIONE NON HA TEMPO preparazione di prodotti tipic
 i ischitani nel Chiostro di San Francesco in Forio https://ischiaeventi.it
 /en/events/cultura/debates-and-cultural-meetings/event/34099-forio-merryla
 nd-la-tradizione-non-ha-tempo
DTSTART:20241219T103000Z
DTEND:20241219T120000Z
LOCATION:Comune di Forio (Piazza Municipio\, 1\, 80075 Forio NA\, Italia)
SUMMARY:Forio MerryLand: LA TRADIZIONE NON HA TEMPO
URL:https://ischiaeventi.it/en/events/cultura/debates-and-cultural-meetings
 /event/34099-forio-merryland-la-tradizione-non-ha-tempo
END:VEVENT
END:VCALENDAR
