BEGIN:VCALENDAR
VERSION:2.0
PRODID:-//https://ischiaeventi.it///NONSGML kigkonsult.se iCalcreator 2.10.15//
METHOD:PUBLISH
BEGIN:VEVENT
UID:20260420T161902UTC-4713RxnzHi@https://ischiaeventi.it/
DTSTAMP:20260420T161902Z
DESCRIPTION:12.00 BRUNCH DI NATALE intrattenimento musicale e gustosi piatt
 i tipici locali per il Corso di Panza https://ischiaeventi.it/en/events/cu
 ltura/debates-and-cultural-meetings/event/34104-forio-merryland-brunch-di-
 natale
DTSTART:20241222T110000Z
DTEND:20241222T130000Z
LOCATION:Comune di Forio (Piazza Municipio\, 1\, 80075 Forio NA\, Italia)
SUMMARY:Forio MerryLand: BRUNCH DI NATALE
URL:https://ischiaeventi.it/en/events/cultura/debates-and-cultural-meetings
 /event/34104-forio-merryland-brunch-di-natale
END:VEVENT
END:VCALENDAR
