BEGIN:VCALENDAR
VERSION:2.0
PRODID:-//https://ischiaeventi.it///NONSGML kigkonsult.se iCalcreator 2.10.15//
METHOD:PUBLISH
BEGIN:VEVENT
UID:20260420T104415UTC-6325PLM76R@https://ischiaeventi.it/
DTSTAMP:20260420T104415Z
DESCRIPTION:PRESEPE VIVENTE XI Edizione suggestiva scena della natività con
  allestimento di antiche botteghe in ricordo di vecchi mestieri e tradizio
 ni nel centro di Panza&nbsp\; https://ischiaeventi.it/en/events/cultura/de
 bates-and-cultural-meetings/event/34281-forio-merryland-presepe-vivente-xi
 -edizione
DTSTART:20241229T150000Z
DTEND:20241229T170000Z
LOCATION:Comune di Forio (Piazza Municipio\, 1\, 80075 Forio NA\, Italia)
SUMMARY:Forio MerryLand: PRESEPE VIVENTE XI Edizione
URL:https://ischiaeventi.it/en/events/cultura/debates-and-cultural-meetings
 /event/34281-forio-merryland-presepe-vivente-xi-edizione
END:VEVENT
END:VCALENDAR
