BEGIN:VCALENDAR
VERSION:2.0
PRODID:-//https://ischiaeventi.it///NONSGML kigkonsult.se iCalcreator 2.10.15//
METHOD:PUBLISH
BEGIN:VEVENT
UID:20260420T104415UTC-5915M4pvb0@https://ischiaeventi.it/
DTSTAMP:20260420T104415Z
DESCRIPTION: PRESEPE VIVENTE XI Edizione suggestiva scena della natività co
 n allestimento di antiche botteghe in ricordo di vecchi mestieri e tradizi
 oni nel centro di Panza&nbsp\; https://ischiaeventi.it/en/events/cultura/d
 ebates-and-cultural-meetings/event/34287-forio-merryland-presepe-vivente-x
 i-edizione
DTSTART:20241230T150000Z
DTEND:20241230T170000Z
LOCATION:Comune di Forio (Piazza Municipio\, 1\, 80075 Forio NA\, Italia)
SUMMARY:Forio MerryLand: PRESEPE VIVENTE XI Edizione
URL:https://ischiaeventi.it/en/events/cultura/debates-and-cultural-meetings
 /event/34287-forio-merryland-presepe-vivente-xi-edizione
END:VEVENT
END:VCALENDAR
