BEGIN:VCALENDAR
VERSION:2.0
PRODID:-//https://ischiaeventi.it///NONSGML kigkonsult.se iCalcreator 2.10.15//
METHOD:PUBLISH
BEGIN:VEVENT
UID:20260420T153405UTC-5857BBOuxi@https://ischiaeventi.it/
DTSTAMP:20260420T153405Z
DESCRIPTION:CASAMICCIOLA IN BRUNCH Live music ed animazione per i bambini p
 iazza Marina e corso L. Manzi dalle 11:00 https://ischiaeventi.it/en/event
 s/cultura/debates-and-cultural-meetings/event/38444-natale-a-casamicciola-
 casamicciola-in-brunch
DTSTART:20241222T100000Z
DTEND:20241222T140000Z
LOCATION:Chiesa del Buon Consiglio (Corso Luigi Manzi\, 5\, 80074 Casamicci
 ola Terme NA\, Italia)
SUMMARY:Natale a Casamicciola: CASAMICCIOLA IN BRUNCH
URL:https://ischiaeventi.it/en/events/cultura/debates-and-cultural-meetings
 /event/38444-natale-a-casamicciola-casamicciola-in-brunch
END:VEVENT
END:VCALENDAR
