BEGIN:VCALENDAR
VERSION:2.0
PRODID:-//https://ischiaeventi.it///NONSGML kigkonsult.se iCalcreator 2.10.15//
METHOD:PUBLISH
BEGIN:VEVENT
UID:20260420T153430UTC-9068VlcpP3@https://ischiaeventi.it/
DTSTAMP:20260420T153430Z
DESCRIPTION:BABBO NATALE IN CARROZZA Papà Natale sfila per le piazze princi
 pali di Casamicciola dalle 10:00 https://ischiaeventi.it/en/events/cultura
 /debates-and-cultural-meetings/event/38446-natale-a-casamicciola-babbo-nat
 ale-in-carrozza
DTSTART:20241224T090000Z
DTEND:20241224T120000Z
LOCATION:Piazza Marina Casamicciola Terme (Corso Luigi Manzi\, 1\, 80074 Ca
 samicciola Terme NA\, Italy)
SUMMARY:Natale a Casamicciola: BABBO NATALE IN CARROZZA
URL:https://ischiaeventi.it/en/events/cultura/debates-and-cultural-meetings
 /event/38446-natale-a-casamicciola-babbo-natale-in-carrozza
END:VEVENT
END:VCALENDAR
