BEGIN:VCALENDAR
VERSION:2.0
PRODID:-//https://ischiaeventi.it///NONSGML kigkonsult.se iCalcreator 2.10.15//
METHOD:PUBLISH
BEGIN:VEVENT
UID:20260420T211123UTC-9688IVNnv0@https://ischiaeventi.it/
DTSTAMP:20260420T211123Z
DESCRIPTION:TABLEAUX VIVANTS DA ARTEMISIA GENTILESCHI* Basilica di Santa Ma
 ria Maddalena 16:00 https://ischiaeventi.it/en/events/cultura/debates-and-
 cultural-meetings/event/38448-natale-a-casamicciola-tableaux-vivants-da-ar
 temisia-gentileschi
DTSTART:20241227T150000Z
DTEND:20241227T170000Z
LOCATION:Chiesa parrocchiale Santa Maria Maddalena (Via Giuseppe Garibaldi\
 , 80074 Casamicciola Terme NA\, Italia)
SUMMARY:Natale a Casamicciola: TABLEAUX VIVANTS DA ARTEMISIA GENTILESCHI
URL:https://ischiaeventi.it/en/events/cultura/debates-and-cultural-meetings
 /event/38448-natale-a-casamicciola-tableaux-vivants-da-artemisia-gentilesc
 hi
END:VEVENT
END:VCALENDAR
