BEGIN:VCALENDAR
VERSION:2.0
PRODID:-//https://ischiaeventi.it///NONSGML kigkonsult.se iCalcreator 2.10.15//
METHOD:PUBLISH
BEGIN:VEVENT
UID:20260420T153430UTC-7467NP851v@https://ischiaeventi.it/
DTSTAMP:20260420T153430Z
DESCRIPTION:Laboratorio creativo per i bambini Sala consiliare comunale 15:
 30'PROSA\, VIERZE E MUSICA A CASAMICCIOLA'Recital - Concerto di Gaetano Ma
 schio Basilica di S. M. Maddalena 19:00 https://ischiaeventi.it/en/events/
 cultura/debates-and-cultural-meetings/event/38455-natale-a-casamicciola-pr
 epariamo-le-calze
DTSTART:20250105T143000Z
DTEND:20250105T193000Z
LOCATION:Comune di Casamicciola Terme (Viale Paradisiello\, 80074 Casamicci
 ola Terme NA\, Italia)
SUMMARY:Natale a Casamicciola: PREPARIAMO LE CALZE
URL:https://ischiaeventi.it/en/events/cultura/debates-and-cultural-meetings
 /event/38455-natale-a-casamicciola-prepariamo-le-calze
END:VEVENT
END:VCALENDAR
