BEGIN:VCALENDAR
VERSION:2.0
PRODID:-//https://ischiaeventi.it///NONSGML kigkonsult.se iCalcreator 2.10.15//
METHOD:PUBLISH
BEGIN:VEVENT
UID:20260420T120821UTC-8998KK85oi@https://ischiaeventi.it/
DTSTAMP:20260420T120821Z
DESCRIPTION:La tradizionale Pizza di Scarole Foriana sarà la protagonista d
 i una serata all’insegna del Folklore e degli antichi sapori del territori
 o. Assaggi\, risate e divertimento ti aspettano dalle 18:30 al Chiostro a 
 Piazza Municipio.-Vuoi partecipare alla gara? Presenta la tua Pizza di Sca
 role alle 18:00 sempre al Chiostro. https://ischiaeventi.it/en/events/cult
 ura/debates-and-cultural-meetings/event/39726-gara-pizza-di-scarole
DTSTART:20241212T173000Z
DTEND:20241212T190000Z
LOCATION:Chiostro S. Francesco (Rione Pescatori\, 2\, 80075 Forio NA\, Ital
 ia)
SUMMARY:GARA PIZZA DI SCAROLE 
URL:https://ischiaeventi.it/en/events/cultura/debates-and-cultural-meetings
 /event/39726-gara-pizza-di-scarole
END:VEVENT
END:VCALENDAR
