BEGIN:VCALENDAR
VERSION:2.0
PRODID:-//https://ischiaeventi.it///NONSGML kigkonsult.se iCalcreator 2.10.15//
METHOD:PUBLISH
BEGIN:VEVENT
UID:20260420T091535UTC-4197dTCSOL@https://ischiaeventi.it/
DTSTAMP:20260420T091535Z
DESCRIPTION:Big event per i più piccoli Mercoledì 18 dicembre per i più pic
 coli arriva LUCILLAEvento organizzato dal Comune di Ischia https://ischiae
 venti.it/en/events/cultura/debates-and-cultural-meetings/event/39785-arriv
 a-lucilla
DTSTART:20241218T160000Z
DTEND:20241218T175700Z
LOCATION:Piazza degli Eroi (Piazza Degli Eroi\, 80077 Ischia NA\, Italia)
SUMMARY:Arriva LUCILLA 
URL:https://ischiaeventi.it/en/events/cultura/debates-and-cultural-meetings
 /event/39785-arriva-lucilla
END:VEVENT
END:VCALENDAR
