BEGIN:VCALENDAR
VERSION:2.0
PRODID:-//https://ischiaeventi.it///NONSGML kigkonsult.se iCalcreator 2.10.15//
METHOD:PUBLISH
BEGIN:VEVENT
UID:20260420T120621UTC-5266TLaOTF@https://ischiaeventi.it/
DTSTAMP:20260420T120621Z
DESCRIPTION:Gourmet in movimento\, festeggiamenti in onore di San Ciro http
 s://ischiaeventi.it/en/events/cultura/debates-and-cultural-meetings/event/
 41546-a-marenna-e-san-ciro
DTSTART:20250126T183000Z
DTEND:20250126T203000Z
LOCATION:Piazza del Ciglio  (Via Ciglio\, Città Metropolitana di Napoli\, I
 talia)
SUMMARY:A' Marenna 'e San Ciro
URL:https://ischiaeventi.it/en/events/cultura/debates-and-cultural-meetings
 /event/41546-a-marenna-e-san-ciro
END:VEVENT
END:VCALENDAR
