BEGIN:VCALENDAR
VERSION:2.0
PRODID:-//https://ischiaeventi.it///NONSGML kigkonsult.se iCalcreator 2.10.15//
METHOD:PUBLISH
BEGIN:VEVENT
UID:20260420T210514UTC-6994rEWe6B@https://ischiaeventi.it/
DTSTAMP:20260420T210514Z
DESCRIPTION:Maxi schermo per la partita Napoli - Cagliari https://ischiaeve
 nti.it/en/events/cultura/debates-and-cultural-meetings/event/77360-maxi-sc
 hermo-per-la-partita-napoli-cagliari
DTSTART:20250523T170000Z
DTEND:20250523T210000Z
LOCATION:Piazza Marina Casamicciola Terme (Corso Luigi Manzi\, 1\, 80074 Ca
 samicciola Terme NA\, Italy)
SUMMARY:Maxi schermo per la partita Napoli - Cagliari
URL:https://ischiaeventi.it/en/events/cultura/debates-and-cultural-meetings
 /event/77360-maxi-schermo-per-la-partita-napoli-cagliari
END:VEVENT
END:VCALENDAR
