BEGIN:VCALENDAR
VERSION:2.0
PRODID:-//https://ischiaeventi.it///NONSGML kigkonsult.se iCalcreator 2.10.15//
METHOD:PUBLISH
BEGIN:VEVENT
UID:20260420T155459UTC-0143N37U6O@https://ischiaeventi.it/
DTSTAMP:20260420T155459Z
DESCRIPTION:In collaborazione con I Giardini La Mortella e la direzione art
 istica dell'archeologa Mariangela Catuogno https://ischiaeventi.it/en/even
 ts/cultura/event/32310-estate-insieme-lacco-ameno-kepos-incontri-su-archeo
 logia-e-paesaggio-dal-levante-ad-ischia-un-mediterraneo-condiviso
DTSTART:20240905T173000Z
DTEND:20240905T190000Z
LOCATION:Villa Arbusto museum (Corso Angelo Rizzoli\, 194\, 80076 Lacco Ame
 no NA\, Italia)
SUMMARY:Estate insieme Lacco Ameno: Kepos INCONTRI SU ARCHEOLOGIA E PAESAGG
 IO 'DAL LEVANTE AD ISCHIA\, UN MEDITERRANEO CONDIVISO
URL:https://ischiaeventi.it/en/events/cultura/event/32310-estate-insieme-la
 cco-ameno-kepos-incontri-su-archeologia-e-paesaggio-dal-levante-ad-ischia-
 un-mediterraneo-condiviso
END:VEVENT
END:VCALENDAR
