BEGIN:VCALENDAR
VERSION:2.0
PRODID:-//https://ischiaeventi.it///NONSGML kigkonsult.se iCalcreator 2.10.15//
METHOD:PUBLISH
BEGIN:VEVENT
UID:20260420T155418UTC-0155eukoJu@https://ischiaeventi.it/
DTSTAMP:20260420T155418Z
DESCRIPTION:Capodanno Napoletano Concerto a cura dell'orchestra 'La Ghirond
 a* https://ischiaeventi.it/en/events/cultura/event/38250-lacco-ameno-in-ca
 nti-di-natale-capodanno-napoletano
DTSTART:20250101T163000Z
DTEND:20250101T180000Z
LOCATION:Auditorium Leonardo Carriero (Via Onofrio Messer 47\, 80076\, Lacc
 o Ameno\, Napoli)
SUMMARY:Lacco Ameno In-canti di Natale: Capodanno Napoletano
URL:https://ischiaeventi.it/en/events/cultura/event/38250-lacco-ameno-in-ca
 nti-di-natale-capodanno-napoletano
END:VEVENT
END:VCALENDAR
