BEGIN:VCALENDAR
VERSION:2.0
PRODID:-//https://ischiaeventi.it///NONSGML kigkonsult.se iCalcreator 2.10.15//
METHOD:PUBLISH
BEGIN:VEVENT
UID:20260420T153331UTC-5245Ip9ugs@https://ischiaeventi.it/
DTSTAMP:20260420T153331Z
DESCRIPTION:GRANDMA BEFANA VILLAGECasamicciola Events 2025–2026 https://isc
 hiaeventi.it/en/events/intrattenimento/by-night/event/249031-christmas-in-
 casamicciola-grandma-befana-village
DTSTART:20260106T140000Z
DTEND:20260106T155300Z
LOCATION:Piazza Marina Casamicciola Terme (Corso Luigi Manzi\, 1\, 80074 Ca
 samicciola Terme NA\, Italy)
SUMMARY:Christmas in Casamicciola: GRANDMA BEFANA VILLAGE
URL:https://ischiaeventi.it/en/events/intrattenimento/by-night/event/249031
 -christmas-in-casamicciola-grandma-befana-village
END:VEVENT
END:VCALENDAR
