BEGIN:VCALENDAR
VERSION:2.0
PRODID:-//https://ischiaeventi.it///NONSGML kigkonsult.se iCalcreator 2.10.15//
METHOD:PUBLISH
BEGIN:VEVENT
UID:20260420T152630UTC-1606VlVGD2@https://ischiaeventi.it/
DTSTAMP:20260420T152630Z
DESCRIPTION:Dominus Production presents “Sacred Heart: His Kingdom Will Nev
 er End”\,a film by Sabrina Gunnell and Steven J. Gunnell\nThursday\, March
  12at 6:30 PM and 8:30 PMat the Excelsior Cinema Theatre – Ischia https://
 ischiaeventi.it/en/events/intrattenimento/by-night/event/249592-il-suo-reg
 no-non-avra-mai-fine-sacro-cuore
DTSTART:20260312T173000Z
DTEND:20260312T193000Z
LOCATION:Cinema Excelsior (Via Francesco Sogliuzzo\, 18\, 80077 Ischia NA\,
  Italia)
SUMMARY:IL SUO REGNO NON AVRÀ MAI FINE SACRO CUORE
URL:https://ischiaeventi.it/en/events/intrattenimento/by-night/event/249592
 -il-suo-regno-non-avra-mai-fine-sacro-cuore
END:VEVENT
END:VCALENDAR
