BEGIN:VCALENDAR
VERSION:2.0
PRODID:-//https://ischiaeventi.it///NONSGML kigkonsult.se iCalcreator 2.10.15//
METHOD:PUBLISH
BEGIN:VEVENT
UID:20260420T094824UTC-7985lndua7@https://ischiaeventi.it/
DTSTAMP:20260420T094824Z
DESCRIPTION:Tradizione e modernità della canzone italiana e napoletana http
 s://ischiaeventi.it/en/events/intrattenimento/by-night/event/31411-na-sera
 -e-maschio
DTSTART:20240720T200000Z
DTEND:20240720T215900Z
LOCATION:Piazza S. Restituta (Piazza Santa Restituta\, 80076 Lacco Ameno NA
 \, Italia)
SUMMARY:'Na sera 'e Maschio
URL:https://ischiaeventi.it/en/events/intrattenimento/by-night/event/31411-
 na-sera-e-maschio
END:VEVENT
END:VCALENDAR
